BEGIN:VCALENDAR
VERSION:2.0
PRODID:-//Conservatorio di Musica di Monopoli - ECPv6.15.18//NONSGML v1.0//EN
CALSCALE:GREGORIAN
METHOD:PUBLISH
X-ORIGINAL-URL:https://conservatoriodimonopoli.org
X-WR-CALDESC:Eventi per Conservatorio di Musica di Monopoli
REFRESH-INTERVAL;VALUE=DURATION:PT1H
X-Robots-Tag:noindex
X-PUBLISHED-TTL:PT1H
BEGIN:VTIMEZONE
TZID:Europe/Paris
BEGIN:DAYLIGHT
TZOFFSETFROM:+0100
TZOFFSETTO:+0200
TZNAME:CEST
DTSTART:20250330T010000
END:DAYLIGHT
BEGIN:STANDARD
TZOFFSETFROM:+0200
TZOFFSETTO:+0100
TZNAME:CET
DTSTART:20251026T010000
END:STANDARD
BEGIN:DAYLIGHT
TZOFFSETFROM:+0100
TZOFFSETTO:+0200
TZNAME:CEST
DTSTART:20260329T010000
END:DAYLIGHT
BEGIN:STANDARD
TZOFFSETFROM:+0200
TZOFFSETTO:+0100
TZNAME:CET
DTSTART:20261025T010000
END:STANDARD
BEGIN:DAYLIGHT
TZOFFSETFROM:+0100
TZOFFSETTO:+0200
TZNAME:CEST
DTSTART:20270328T010000
END:DAYLIGHT
BEGIN:STANDARD
TZOFFSETFROM:+0200
TZOFFSETTO:+0100
TZNAME:CET
DTSTART:20271031T010000
END:STANDARD
END:VTIMEZONE
BEGIN:VEVENT
DTSTART;TZID=Europe/Paris:20260424T204500
DTEND;TZID=Europe/Paris:20260424T223000
DTSTAMP:20260424T125448
CREATED:20260421T134302Z
LAST-MODIFIED:20260421T134302Z
UID:21068-1777063500-1777069800@conservatoriodimonopoli.org
SUMMARY:#MERAVIGLIE2026 | Amanda Duo
DESCRIPTION:
URL:https://conservatoriodimonopoli.org/evento/meraviglie2026-amanda-duo/
LOCATION:Salone del Conservatorio\, Piazza Sant'Antonio 27\, Monopoli\, BA\, 70043\, Italia
CATEGORIES:Concerti
ATTACH;FMTTYPE=image/png:https://conservatoriodimonopoli.org/wp-content/uploads/2026/04/29.png
ORGANIZER;CN="Conservatorio di Musica Nino Rota":MAILTO:concertirota@gmail.com
END:VEVENT
BEGIN:VEVENT
DTSTART;TZID=Europe/Paris:20260428T093000
DTEND;TZID=Europe/Paris:20260428T193000
DTSTAMP:20260424T125448
CREATED:20260411T001204Z
LAST-MODIFIED:20260417T061204Z
UID:20891-1777368600-1777404600@conservatoriodimonopoli.org
SUMMARY:Benedetto Lupo | pianoforte
DESCRIPTION:PARTECIPAZIONE ALLA MASTERCLASS  \nLa partecipazione in qualità di effettivi è riservata a 7 studenti selezionati dalla scuola di Pianoforte\ndel Conservatorio Nino Rota.\nBORSA DI STUDIO PAOLA BRUNI \nAlla/al pianista più meritevole a giudizio del M° Lupo sarà assegnata la borsa di studio\ndedicata alla memoria di Paola Bruni\, pianista e docente del Conservatorio Nino Rota. \nTutti gli studenti del Conservatorio potranno partecipare come uditori. \nPARTECIPAZIONE NON ISCRITTI AL CONSERVATORIO NINO ROTA \nE’ possibile la frequenza come uditori. Iscrizioni: produzioneartistica.rota@gmail.com\nallegando il versamento di  € 30 (1 giorno)  \nIBAN IT 96 I 05385 41570 0000 02878873  \nBanca Popolare di Puglia e Basilicata S.C.P.A.  Via V. Veneto 193/E 70043 Monopoli \nindicando nella causale \nMasterclass M° Benedetto Lupo \n  \nBenedetto Lupo si è imposto all’attenzione del mondo musicale con l’affermazione nel 1989\, primo italiano\, al prestigioso Concorso Internazionale Van Cliburn. Da qui la collaborazione con le più importanti orchestre americane ed europee quali la Philadelphia Orchestra\, la Boston Symphony\, la Chicago Symphony\, la Los Angeles Philharmonic\, la Baltimore Symphony\, l’Orchestre Symphonique de Montréal\, Toronto Symphony\, Seattle Symphony\, Vancouver Symphony\, la London Philharmonic\, la Gewandhaus Orchester di Lipsia\, la Rotterdam Philharmonic\, l’Hallé Orchestra\, la Deutsches Symphonie-Orchester di Berlino\, l’Orquesta Nacional de España\, l’Orchestre Philharmonique de Monte Carlo\, l’Orchestre Philharmonique de Liège\, la Bergen Philharmonic\, l’Orchestre du Capitole de Toulouse. \nLa sua intensa attività concertistica lo vede ospite regolare delle principali sale da concerto e festival internazionali fra cui il Lincoln Center di New York\, la Salle Pleyel di Parigi\, la Wigmore Hall di Londra\, la Philharmonie di Berlino\, il Palais des Beaux Arts di Bruxelles\, il Festival di Tanglewood\, il Festival Internazionale di Istanbul\, il Festival “Enescu” di Bucarest e il Tivoli Festival di Copenaghen. \nÈ stato ospite dei più importanti teatri italiani –Teatro alla Scala di Milano\, San Carlo di Napoli\, La Fenice di Venezia\, Comunale di Bologna e di Firenze\, Regio di Torino\, Verdi di Trieste\, Carlo Felice di Genova\, Filarmonico di Verona\, Massimo di Palermo\, Lirico di Cagliari e Petruzzelli di Bari- e delle maggiori istituzioni concertistiche nazionali\, tra le quali l’Orchestra dell’Accademia di S. Cecilia di Roma\, l’Orchestra Nazionale della RAI\, l’Orchestra Verdi di Milano\, i Pomeriggi Musicali\, l’Orchestra Regionale Toscana\, l’Unione Musicale di Torino\, La Società del Quartetto di Milano\, la Società dei Concerti di Milano\, l’Accademia Filarmonica Romana\, gli Amici della Musica di Firenze\, il Festival Pianistico Internazionale di Bergamo e Brescia\, la stagione “Micat in Vertice” dell’Accademia Musicale Chigiana\, la I.U.C. di Roma e il Festival MITO. \nTra le sue registrazioni l’integrale delle composizioni per pianoforte e orchestra di Schumann per la ARTS e la nuova incisione del Concerto Soirée di Nino Rota per Harmonia Mundi che ha ottenuto numerosi premi internazionali\, tra i quali il “Diapason d’Or”. \nÈ titolare della cattedra di pianoforte dei corsi di perfezionamento dell’Accademia Nazionale di Santa Cecilia di Roma\, istituzione della quale\, dal dicembre 2015\, è Accademico effettivo.
URL:https://conservatoriodimonopoli.org/evento/benedetto-lupo-pianoforte/
LOCATION:Salone del Conservatorio\, Piazza Sant'Antonio 27\, Monopoli\, BA\, 70043\, Italia
CATEGORIES:Masterclass
ATTACH;FMTTYPE=image/png:https://conservatoriodimonopoli.org/wp-content/uploads/2026/04/Copia-di-Senza-titolo-48-x-33-cm-33-x-48-cm-1949-x-1471-px1.png
ORGANIZER;CN="Conservatorio di Musica Nino Rota":MAILTO:concertirota@gmail.com
END:VEVENT
BEGIN:VEVENT
DTSTART;TZID=Europe/Paris:20260428T204500
DTEND;TZID=Europe/Paris:20260428T223000
DTSTAMP:20260424T125448
CREATED:20260423T094401Z
LAST-MODIFIED:20260423T094401Z
UID:21110-1777409100-1777415400@conservatoriodimonopoli.org
SUMMARY:#MERAVIGLIE2026 | De Nitto&Rosati
DESCRIPTION:
URL:https://conservatoriodimonopoli.org/evento/meraviglie2026-de-nittorosati/
LOCATION:Salone del Conservatorio\, Piazza Sant'Antonio 27\, Monopoli\, BA\, 70043\, Italia
CATEGORIES:Concerti
ATTACH;FMTTYPE=image/png:https://conservatoriodimonopoli.org/wp-content/uploads/2026/04/Meraviglie-2026-Anteprime-sito3.png
ORGANIZER;CN="Conservatorio di Musica Nino Rota":MAILTO:concertirota@gmail.com
END:VEVENT
BEGIN:VEVENT
DTSTART;TZID=Europe/Paris:20260428T204500
DTEND;TZID=Europe/Paris:20260428T223000
DTSTAMP:20260424T125448
CREATED:20260423T100030Z
LAST-MODIFIED:20260423T100051Z
UID:21143-1777409100-1777415400@conservatoriodimonopoli.org
SUMMARY:#MERAVIGLIE2026 | Melissa Annese | soprano
DESCRIPTION:
URL:https://conservatoriodimonopoli.org/evento/meraviglie2026-melissa-annese-soprano/
LOCATION:Salone del Conservatorio\, Piazza Sant'Antonio 27\, Monopoli\, BA\, 70043\, Italia
CATEGORIES:Concerti
ATTACH;FMTTYPE=image/png:https://conservatoriodimonopoli.org/wp-content/uploads/2026/04/33-5.png
ORGANIZER;CN="Conservatorio di Musica Nino Rota":MAILTO:concertirota@gmail.com
END:VEVENT
BEGIN:VEVENT
DTSTART;TZID=Europe/Paris:20260430T204500
DTEND;TZID=Europe/Paris:20260430T223000
DTSTAMP:20260424T125448
CREATED:20260423T095720Z
LAST-MODIFIED:20260423T100215Z
UID:21137-1777581900-1777588200@conservatoriodimonopoli.org
SUMMARY:#MERAVIGLIE2026 | Afra Laviosa | arpa
DESCRIPTION:
URL:https://conservatoriodimonopoli.org/evento/meraviglie2026-afra-laviosa-i-arpa/
LOCATION:Salone del Conservatorio\, Piazza Sant'Antonio 27\, Monopoli\, BA\, 70043\, Italia
CATEGORIES:Concerti
ATTACH;FMTTYPE=image/png:https://conservatoriodimonopoli.org/wp-content/uploads/2026/04/Meraviglie-2026-Anteprime-sito4.png
ORGANIZER;CN="Conservatorio di Musica Nino Rota":MAILTO:concertirota@gmail.com
END:VEVENT
BEGIN:VEVENT
DTSTART;TZID=Europe/Paris:20260430T204500
DTEND;TZID=Europe/Paris:20260430T223000
DTSTAMP:20260424T125448
CREATED:20260423T100732Z
LAST-MODIFIED:20260423T100732Z
UID:21146-1777581900-1777588200@conservatoriodimonopoli.org
SUMMARY:#MERAVIGLIE2026 | Alina Kirichenko | pianoforte
DESCRIPTION:
URL:https://conservatoriodimonopoli.org/evento/meraviglie2026-alina-kirichenko-pianoforte/
LOCATION:Salone del Conservatorio\, Piazza Sant'Antonio 27\, Monopoli\, BA\, 70043\, Italia
CATEGORIES:Concerti
ATTACH;FMTTYPE=image/png:https://conservatoriodimonopoli.org/wp-content/uploads/2026/04/34-2.png
ORGANIZER;CN="Conservatorio di Musica Nino Rota":MAILTO:concertirota@gmail.com
END:VEVENT
BEGIN:VEVENT
DTSTART;TZID=Europe/Paris:20260430T204500
DTEND;TZID=Europe/Paris:20260430T223000
DTSTAMP:20260424T125448
CREATED:20260423T101517Z
LAST-MODIFIED:20260423T101517Z
UID:21147-1777581900-1777588200@conservatoriodimonopoli.org
SUMMARY:#MERAVIGLIE2026 | Cosimo Ladogana | pianoforte
DESCRIPTION:
URL:https://conservatoriodimonopoli.org/evento/meraviglie2026-cosimo-ladogana-pianoforte/
LOCATION:Salone del Conservatorio\, Piazza Sant'Antonio 27\, Monopoli\, BA\, 70043\, Italia
CATEGORIES:Concerti
ATTACH;FMTTYPE=image/png:https://conservatoriodimonopoli.org/wp-content/uploads/2026/04/35-5.png
ORGANIZER;CN="Conservatorio di Musica Nino Rota":MAILTO:concertirota@gmail.com
END:VEVENT
END:VCALENDAR