BEGIN:VCALENDAR
VERSION:2.0
PRODID:-//Conservatorio di Musica di Monopoli - ECPv6.15.18//NONSGML v1.0//EN
CALSCALE:GREGORIAN
METHOD:PUBLISH
X-WR-CALNAME:Conservatorio di Musica di Monopoli
X-ORIGINAL-URL:https://conservatoriodimonopoli.org/en/
X-WR-CALDESC:Events for Conservatorio di Musica di Monopoli
REFRESH-INTERVAL;VALUE=DURATION:PT1H
X-Robots-Tag:noindex
X-PUBLISHED-TTL:PT1H
BEGIN:VTIMEZONE
TZID:Europe/Paris
BEGIN:DAYLIGHT
TZOFFSETFROM:+0100
TZOFFSETTO:+0200
TZNAME:CEST
DTSTART:20210328T010000
END:DAYLIGHT
BEGIN:STANDARD
TZOFFSETFROM:+0200
TZOFFSETTO:+0100
TZNAME:CET
DTSTART:20211031T010000
END:STANDARD
BEGIN:DAYLIGHT
TZOFFSETFROM:+0100
TZOFFSETTO:+0200
TZNAME:CEST
DTSTART:20220327T010000
END:DAYLIGHT
BEGIN:STANDARD
TZOFFSETFROM:+0200
TZOFFSETTO:+0100
TZNAME:CET
DTSTART:20221030T010000
END:STANDARD
BEGIN:DAYLIGHT
TZOFFSETFROM:+0100
TZOFFSETTO:+0200
TZNAME:CEST
DTSTART:20230326T010000
END:DAYLIGHT
BEGIN:STANDARD
TZOFFSETFROM:+0200
TZOFFSETTO:+0100
TZNAME:CET
DTSTART:20231029T010000
END:STANDARD
END:VTIMEZONE
BEGIN:VEVENT
DTSTART;TZID=Europe/Paris:20221221T213000
DTEND;TZID=Europe/Paris:20221222T003000
DTSTAMP:20260421T074557
CREATED:20221216T193043Z
LAST-MODIFIED:20240506T192535Z
UID:14331-1671658200-1671669000@conservatoriodimonopoli.org
SUMMARY:Concerto di chiusura del Cinquantenario del Conservatorio "Nino Rota"
DESCRIPTION:
URL:https://conservatoriodimonopoli.org/en/evento/concerto-di-chiusura-del-cinquantenario-del-conservatorio-nino-rota-2/
LOCATION:Monopoli\, Teatro “Radar”\, Via Magenta\, 71/73\, Monopoli\, BARI\, 70043\, Italy
CATEGORIES:Concerts
ATTACH;FMTTYPE=image/png:https://conservatoriodimonopoli.org/wp-content/uploads/2017/11/Omaggio-a-Nino-Rota.png
ORGANIZER;CN="Conservatorio di Musica Nino Rota":MAILTO:concertirota@gmail.com
END:VEVENT
END:VCALENDAR